BEGIN:VCALENDAR
VERSION:2.0
PRODID:-//MaxiMusic - ECPv6.15.20//NONSGML v1.0//EN
CALSCALE:GREGORIAN
METHOD:PUBLISH
X-ORIGINAL-URL:https://maximusic.fr
X-WR-CALDESC:Évènements pour MaxiMusic
REFRESH-INTERVAL;VALUE=DURATION:PT1H
X-Robots-Tag:noindex
X-PUBLISHED-TTL:PT1H
BEGIN:VTIMEZONE
TZID:Europe/Paris
BEGIN:DAYLIGHT
TZOFFSETFROM:+0100
TZOFFSETTO:+0200
TZNAME:CEST
DTSTART:20240331T010000
END:DAYLIGHT
BEGIN:STANDARD
TZOFFSETFROM:+0200
TZOFFSETTO:+0100
TZNAME:CET
DTSTART:20241027T010000
END:STANDARD
BEGIN:DAYLIGHT
TZOFFSETFROM:+0100
TZOFFSETTO:+0200
TZNAME:CEST
DTSTART:20250330T010000
END:DAYLIGHT
BEGIN:STANDARD
TZOFFSETFROM:+0200
TZOFFSETTO:+0100
TZNAME:CET
DTSTART:20251026T010000
END:STANDARD
BEGIN:DAYLIGHT
TZOFFSETFROM:+0100
TZOFFSETTO:+0200
TZNAME:CEST
DTSTART:20260329T010000
END:DAYLIGHT
BEGIN:STANDARD
TZOFFSETFROM:+0200
TZOFFSETTO:+0100
TZNAME:CET
DTSTART:20261025T010000
END:STANDARD
END:VTIMEZONE
BEGIN:VEVENT
DTSTART;TZID=Europe/Paris:20250801T200000
DTEND;TZID=Europe/Paris:20250802T050000
DTSTAMP:20260423T115539
CREATED:20250708T072304Z
LAST-MODIFIED:20250708T072304Z
UID:3921-1754078400-1754110800@maximusic.fr
SUMMARY:Soirée 80 au Montagnard
DESCRIPTION:
URL:https://maximusic.fr/agenda/soiree-80-au-montagnard/
END:VEVENT
BEGIN:VEVENT
DTSTART;TZID=Europe/Paris:20250802T200000
DTEND;TZID=Europe/Paris:20250803T040000
DTSTAMP:20260423T115539
CREATED:20250708T072431Z
LAST-MODIFIED:20250802T121542Z
UID:3923-1754164800-1754193600@maximusic.fr
SUMMARY:Anniv de Clément
DESCRIPTION:Moment important d’une vie\, le passage à la majorité et cela se fête. Ambiance multigénérationnelle à Villeneuve de rivière. Entre musique et séquences émotions\, une belle soirée en perspective pour Clément et ses proches
URL:https://maximusic.fr/agenda/anniv-sur-saint-gaudens/
ATTACH;FMTTYPE=image/jpeg:https://maximusic.fr/wp-content/uploads/2024/01/happy-birthday-bastien.jpg
END:VEVENT
BEGIN:VEVENT
DTSTART;TZID=Europe/Paris:20250805T190000
DTEND;TZID=Europe/Paris:20250805T210000
DTSTAMP:20260423T115539
CREATED:20250717T063801Z
LAST-MODIFIED:20250717T063801Z
UID:3928-1754420400-1754427600@maximusic.fr
SUMMARY:Quiz au Flunch Labège
DESCRIPTION:
URL:https://maximusic.fr/agenda/quiz-au-flunch-labege/
END:VEVENT
BEGIN:VEVENT
DTSTART;TZID=Europe/Paris:20250807T210000
DTEND;TZID=Europe/Paris:20250808T010000
DTSTAMP:20260423T115539
CREATED:20250717T063917Z
LAST-MODIFIED:20250717T063917Z
UID:3930-1754600400-1754614800@maximusic.fr
SUMMARY:Soirée Plage au GG
DESCRIPTION:
URL:https://maximusic.fr/agenda/soiree-plage-au-gg/
END:VEVENT
BEGIN:VEVENT
DTSTART;TZID=Europe/Paris:20250809T203000
DTEND;TZID=Europe/Paris:20250810T050000
DTSTAMP:20260423T115539
CREATED:20250717T064040Z
LAST-MODIFIED:20250717T064040Z
UID:3932-1754771400-1754802000@maximusic.fr
SUMMARY:Mariage dans le 65
DESCRIPTION:
URL:https://maximusic.fr/agenda/mariage-dans-le-65/
END:VEVENT
BEGIN:VEVENT
DTSTART;TZID=Europe/Paris:20250813T080000
DTEND;TZID=Europe/Paris:20250814T020000
DTSTAMP:20260423T115539
CREATED:20250802T081049Z
LAST-MODIFIED:20250812T101101Z
UID:3937-1755072000-1755136800@maximusic.fr
SUMMARY:Soirée au Mailh d'Astau
DESCRIPTION:On s’ambiance dans un cadre exceptionnel  ce mercredi 13 Aout ua Mailh D’Astau restaurant emblématique de la Vallée d’Oô \nVenez prendre une bouffée d’air frais ainsi qu’une respiration musicale
URL:https://maximusic.fr/agenda/soiree-au-mailh-dastau/
ATTACH;FMTTYPE=image/png:https://maximusic.fr/wp-content/uploads/2023/11/dj-mix.png
END:VEVENT
BEGIN:VEVENT
DTSTART;TZID=Europe/Paris:20250814T210000
DTEND;TZID=Europe/Paris:20250815T020000
DTSTAMP:20260423T115539
CREATED:20250802T081306Z
LAST-MODIFIED:20250802T081349Z
UID:3939-1755205200-1755223200@maximusic.fr
SUMMARY:Café des Artistes
DESCRIPTION:
URL:https://maximusic.fr/agenda/cafe-des-artistes/
END:VEVENT
BEGIN:VEVENT
DTSTART;TZID=Europe/Paris:20250816T170000
DTEND;TZID=Europe/Paris:20250817T050000
DTSTAMP:20260423T115539
CREATED:20250802T081729Z
LAST-MODIFIED:20250802T081758Z
UID:3941-1755363600-1755406800@maximusic.fr
SUMMARY:Nolwenn & Julien se marient
DESCRIPTION:
URL:https://maximusic.fr/agenda/nolwenn-julien-se-marient/
END:VEVENT
BEGIN:VEVENT
DTSTART;TZID=Europe/Paris:20250820T190000
DTEND;TZID=Europe/Paris:20250820T220000
DTSTAMP:20260423T115539
CREATED:20250812T100241Z
LAST-MODIFIED:20250812T100241Z
UID:3964-1755716400-1755727200@maximusic.fr
SUMMARY:Maximusic "A La Base"
DESCRIPTION:
URL:https://maximusic.fr/agenda/maximusic-a-la-base/
END:VEVENT
BEGIN:VEVENT
DTSTART;TZID=Europe/Paris:20250821T200000
DTEND;TZID=Europe/Paris:20250822T050000
DTSTAMP:20260423T115539
CREATED:20250802T082043Z
LAST-MODIFIED:20250802T082043Z
UID:3943-1755806400-1755838800@maximusic.fr
SUMMARY:karaoké du 3 Brasseurs
DESCRIPTION:
URL:https://maximusic.fr/agenda/karaoke-du-3-brasseurs/
END:VEVENT
BEGIN:VEVENT
DTSTART;TZID=Europe/Paris:20250822T193000
DTEND;TZID=Europe/Paris:20250823T003000
DTSTAMP:20260423T115539
CREATED:20250802T082206Z
LAST-MODIFIED:20250802T082206Z
UID:3945-1755891000-1755909000@maximusic.fr
SUMMARY:RDV a L'Authentique en Ariège
DESCRIPTION:
URL:https://maximusic.fr/agenda/rdv-a-lauthentique-en-ariege/
END:VEVENT
BEGIN:VEVENT
DTSTART;TZID=Europe/Paris:20250823T170000
DTEND;TZID=Europe/Paris:20250824T050000
DTSTAMP:20260423T115539
CREATED:20250802T082314Z
LAST-MODIFIED:20250802T082314Z
UID:3947-1755968400-1756011600@maximusic.fr
SUMMARY:Mariage à la Métairie
DESCRIPTION:
URL:https://maximusic.fr/agenda/mariage-a-la-metairie-2/
END:VEVENT
BEGIN:VEVENT
DTSTART;TZID=Europe/Paris:20250824T160000
DTEND;TZID=Europe/Paris:20250825T050000
DTSTAMP:20260423T115539
CREATED:20250812T100414Z
LAST-MODIFIED:20250812T100414Z
UID:3966-1756051200-1756098000@maximusic.fr
SUMMARY:DJ Set à La Rotonde pour la fête des fleurs
DESCRIPTION:
URL:https://maximusic.fr/agenda/dj-set-a-la-rotonde-pour-la-fete-des-fleurs/
END:VEVENT
BEGIN:VEVENT
DTSTART;TZID=Europe/Paris:20250828T210000
DTEND;TZID=Europe/Paris:20250829T010000
DTSTAMP:20260423T115539
CREATED:20250802T082427Z
LAST-MODIFIED:20250812T100942Z
UID:3949-1756414800-1756429200@maximusic.fr
SUMMARY:Café des Artistes
DESCRIPTION:
URL:https://maximusic.fr/agenda/cafe-des-artistes-2/
END:VEVENT
BEGIN:VEVENT
DTSTART;TZID=Europe/Paris:20250829T200000
DTEND;TZID=Europe/Paris:20250830T010000
DTSTAMP:20260423T115539
CREATED:20250802T082607Z
LAST-MODIFIED:20250802T082607Z
UID:3951-1756497600-1756515600@maximusic.fr
SUMMARY:La mensuelle de l'Empire du Malt
DESCRIPTION:
URL:https://maximusic.fr/agenda/la-mensuelle-de-lempire-du-malt/
END:VEVENT
BEGIN:VEVENT
DTSTART;TZID=Europe/Paris:20250830T180000
DTEND;TZID=Europe/Paris:20250831T010000
DTSTAMP:20260423T115539
CREATED:20250802T082718Z
LAST-MODIFIED:20250802T082718Z
UID:3953-1756576800-1756602000@maximusic.fr
SUMMARY:Anniversaire de Christian au Palladia
DESCRIPTION:
URL:https://maximusic.fr/agenda/anniversaire-de-christian-au-palladia/
END:VEVENT
END:VCALENDAR