BEGIN:VCALENDAR
VERSION:2.0
PRODID:-//MaxiMusic - ECPv6.15.20//NONSGML v1.0//EN
CALSCALE:GREGORIAN
METHOD:PUBLISH
X-ORIGINAL-URL:https://maximusic.fr
X-WR-CALDESC:Évènements pour MaxiMusic
REFRESH-INTERVAL;VALUE=DURATION:PT1H
X-Robots-Tag:noindex
X-PUBLISHED-TTL:PT1H
BEGIN:VTIMEZONE
TZID:Europe/Paris
BEGIN:DAYLIGHT
TZOFFSETFROM:+0100
TZOFFSETTO:+0200
TZNAME:CEST
DTSTART:20240331T010000
END:DAYLIGHT
BEGIN:STANDARD
TZOFFSETFROM:+0200
TZOFFSETTO:+0100
TZNAME:CET
DTSTART:20241027T010000
END:STANDARD
BEGIN:DAYLIGHT
TZOFFSETFROM:+0100
TZOFFSETTO:+0200
TZNAME:CEST
DTSTART:20250330T010000
END:DAYLIGHT
BEGIN:STANDARD
TZOFFSETFROM:+0200
TZOFFSETTO:+0100
TZNAME:CET
DTSTART:20251026T010000
END:STANDARD
BEGIN:DAYLIGHT
TZOFFSETFROM:+0100
TZOFFSETTO:+0200
TZNAME:CEST
DTSTART:20260329T010000
END:DAYLIGHT
BEGIN:STANDARD
TZOFFSETFROM:+0200
TZOFFSETTO:+0100
TZNAME:CET
DTSTART:20261025T010000
END:STANDARD
END:VTIMEZONE
BEGIN:VEVENT
DTSTART;TZID=Europe/Paris:20250703T210000
DTEND;TZID=Europe/Paris:20250704T010000
DTSTAMP:20260421T023705
CREATED:20250609T065050Z
LAST-MODIFIED:20250609T065146Z
UID:3870-1751576400-1751590800@maximusic.fr
SUMMARY:Karaoké au Café des Artistes
DESCRIPTION:
URL:https://maximusic.fr/agenda/karaoke-au-cafe-des-artistes-6/
END:VEVENT
BEGIN:VEVENT
DTSTART;TZID=Europe/Paris:20250703T210000
DTEND;TZID=Europe/Paris:20250704T010000
DTSTAMP:20260421T023705
CREATED:20250616T155810Z
LAST-MODIFIED:20250616T155810Z
UID:3885-1751576400-1751590800@maximusic.fr
SUMMARY:premier karaoké de l'été au Café des Artistes
DESCRIPTION:
URL:https://maximusic.fr/agenda/premier-karaoke-de-lete-au-cafe-des-artistes/
END:VEVENT
BEGIN:VEVENT
DTSTART;TZID=Europe/Paris:20250704T190000
DTEND;TZID=Europe/Paris:20250705T003000
DTSTAMP:20260421T023705
CREATED:20250616T160151Z
LAST-MODIFIED:20250616T160151Z
UID:3887-1751655600-1751675400@maximusic.fr
SUMMARY:Premier karaoké de l'été au lac de BAdech
DESCRIPTION:
URL:https://maximusic.fr/agenda/premier-karaoke-de-lete-au-lac-de-badech/
END:VEVENT
BEGIN:VEVENT
DTSTART;TZID=Europe/Paris:20250704T203000
DTEND;TZID=Europe/Paris:20250704T233000
DTSTAMP:20260421T023705
CREATED:20250609T065420Z
LAST-MODIFIED:20250609T065420Z
UID:3872-1751661000-1751671800@maximusic.fr
SUMMARY:Karaoké de la guinguette du lac de Badech
DESCRIPTION:
URL:https://maximusic.fr/agenda/karaoke-de-la-guinguette-du-lac-de-badech/
END:VEVENT
BEGIN:VEVENT
DTSTART;TZID=Europe/Paris:20250705T080000
DTEND;TZID=Europe/Paris:20250706T050000
DTSTAMP:20260421T023705
CREATED:20250616T161137Z
LAST-MODIFIED:20250616T161137Z
UID:3895-1751702400-1751778000@maximusic.fr
SUMMARY:Manon et Valentin se marient
DESCRIPTION:
URL:https://maximusic.fr/agenda/manon-et-valentin-se-marient-2/
END:VEVENT
BEGIN:VEVENT
DTSTART;TZID=Europe/Paris:20250705T090000
DTEND;TZID=Europe/Paris:20250705T130000
DTSTAMP:20260421T023705
CREATED:20250616T160409Z
LAST-MODIFIED:20250616T160512Z
UID:3889-1751706000-1751720400@maximusic.fr
SUMMARY:Mieux loger : Deuxième matinée
DESCRIPTION:
URL:https://maximusic.fr/agenda/mieux-loger-deuxieme-matinee/
END:VEVENT
BEGIN:VEVENT
DTSTART;TZID=Europe/Paris:20250710T210000
DTEND;TZID=Europe/Paris:20250711T010000
DTSTAMP:20260421T023705
CREATED:20250708T070006Z
LAST-MODIFIED:20250708T070006Z
UID:3899-1752181200-1752195600@maximusic.fr
SUMMARY:On chante au Café des Artistes
DESCRIPTION:Comme chaque jeudi\, on chante quai de la Daurade et si vous vous voulez vous exprimer en chansons\, vous pouvez le faire de 21h à 1h du matin
URL:https://maximusic.fr/agenda/on-chante-au-cafe-des-artistes-12/
ATTACH;FMTTYPE=image/jpeg:https://maximusic.fr/wp-content/uploads/2024/05/cafe-des-artistes-toulouse-france-mjh3gt.jpg
END:VEVENT
BEGIN:VEVENT
DTSTART;TZID=Europe/Paris:20250711T190000
DTEND;TZID=Europe/Paris:20250712T023000
DTSTAMP:20260421T023705
CREATED:20250708T070130Z
LAST-MODIFIED:20250708T070628Z
UID:3901-1752260400-1752287400@maximusic.fr
SUMMARY:Soirée Plage aux GG
DESCRIPTION:
URL:https://maximusic.fr/agenda/soiree-plage-aux-gg/
END:VEVENT
BEGIN:VEVENT
DTSTART;TZID=Europe/Paris:20250712T163000
DTEND;TZID=Europe/Paris:20250713T053000
DTSTAMP:20260421T023705
CREATED:20250708T070918Z
LAST-MODIFIED:20250708T070918Z
UID:3903-1752337800-1752384600@maximusic.fr
SUMMARY:Mariage à la Métairie du Chateau ce samedi
DESCRIPTION:05050000
URL:https://maximusic.fr/agenda/mariage-a-la-metairie-du-chateau-ce-samedi/
END:VEVENT
BEGIN:VEVENT
DTSTART;TZID=Europe/Paris:20250713T130000
DTEND;TZID=Europe/Paris:20250714T013000
DTSTAMP:20260421T023705
CREATED:20250708T071053Z
LAST-MODIFIED:20250708T071053Z
UID:3905-1752411600-1752456600@maximusic.fr
SUMMARY:Anniversaire à Pamiers
DESCRIPTION:
URL:https://maximusic.fr/agenda/anniversaire-a-pamiers/
END:VEVENT
BEGIN:VEVENT
DTSTART;TZID=Europe/Paris:20250717T200000
DTEND;TZID=Europe/Paris:20250717T223000
DTSTAMP:20260421T023705
CREATED:20250708T071247Z
LAST-MODIFIED:20250717T063400Z
UID:3907-1752782400-1752791400@maximusic.fr
SUMMARY:Karaoké au 3B
DESCRIPTION:Pas de pause pour les artistes\, on chante tous les mois aux 3B Blaganc \nEt dans une belle ambiance\, les micros seront à votre dispositions des 20h ce jeudi soir
URL:https://maximusic.fr/agenda/karaoke-au-3b-4/
ATTACH;FMTTYPE=image/jpeg:https://maximusic.fr/wp-content/uploads/2024/01/karaoke.jpg
END:VEVENT
BEGIN:VEVENT
DTSTART;TZID=Europe/Paris:20250718T200000
DTEND;TZID=Europe/Paris:20250719T020000
DTSTAMP:20260421T023705
CREATED:20250708T071352Z
LAST-MODIFIED:20250708T071352Z
UID:3909-1752868800-1752890400@maximusic.fr
SUMMARY:Soirée Blanche à L'After By M
DESCRIPTION:
URL:https://maximusic.fr/agenda/soiree-blanche-a-lafter-by-m-2/
END:VEVENT
BEGIN:VEVENT
DTSTART;TZID=Europe/Paris:20250719T173000
DTEND;TZID=Europe/Paris:20250720T050000
DTSTAMP:20260421T023705
CREATED:20250708T071518Z
LAST-MODIFIED:20250708T071518Z
UID:3911-1752946200-1752987600@maximusic.fr
SUMMARY:Carole et Guilhem se marient
DESCRIPTION:
URL:https://maximusic.fr/agenda/carole-et-guilhem-se-marient/
END:VEVENT
BEGIN:VEVENT
DTSTART;TZID=Europe/Paris:20250724T210000
DTEND;TZID=Europe/Paris:20250725T010000
DTSTAMP:20260421T023705
CREATED:20250708T071847Z
LAST-MODIFIED:20250708T071847Z
UID:3913-1753390800-1753405200@maximusic.fr
SUMMARY:Café des Artistes ; Le Karaoké
DESCRIPTION:
URL:https://maximusic.fr/agenda/cafe-des-artistes-le-karaoke-2/
END:VEVENT
BEGIN:VEVENT
DTSTART;TZID=Europe/Paris:20250725T210000
DTEND;TZID=Europe/Paris:20250726T010000
DTSTAMP:20260421T023705
CREATED:20250708T072003Z
LAST-MODIFIED:20250708T072003Z
UID:3915-1753477200-1753491600@maximusic.fr
SUMMARY:Le Quiz de l'Empire du Malt
DESCRIPTION:
URL:https://maximusic.fr/agenda/le-quiz-de-lempire-du-malt-4/
END:VEVENT
BEGIN:VEVENT
DTSTART;TZID=Europe/Paris:20250726T173000
DTEND;TZID=Europe/Paris:20250727T050000
DTSTAMP:20260421T023705
CREATED:20250708T072112Z
LAST-MODIFIED:20250708T072112Z
UID:3917-1753551000-1753592400@maximusic.fr
SUMMARY:Virgnie et Cédric se marient
DESCRIPTION:
URL:https://maximusic.fr/agenda/virgnie-et-cedric-se-marient/
END:VEVENT
BEGIN:VEVENT
DTSTART;TZID=Europe/Paris:20250731T210000
DTEND;TZID=Europe/Paris:20250801T010000
DTSTAMP:20260421T023705
CREATED:20250708T072209Z
LAST-MODIFIED:20250708T072209Z
UID:3919-1753995600-1754010000@maximusic.fr
SUMMARY:Café des Artstes
DESCRIPTION:
URL:https://maximusic.fr/agenda/cafe-des-artstes/
END:VEVENT
END:VCALENDAR