BEGIN:VCALENDAR
VERSION:2.0
PRODID:-//MaxiMusic - ECPv6.15.20//NONSGML v1.0//EN
CALSCALE:GREGORIAN
METHOD:PUBLISH
X-WR-CALNAME:MaxiMusic
X-ORIGINAL-URL:https://maximusic.fr
X-WR-CALDESC:Évènements pour MaxiMusic
REFRESH-INTERVAL;VALUE=DURATION:PT1H
X-Robots-Tag:noindex
X-PUBLISHED-TTL:PT1H
BEGIN:VTIMEZONE
TZID:Europe/Paris
BEGIN:DAYLIGHT
TZOFFSETFROM:+0100
TZOFFSETTO:+0200
TZNAME:CEST
DTSTART:20240331T010000
END:DAYLIGHT
BEGIN:STANDARD
TZOFFSETFROM:+0200
TZOFFSETTO:+0100
TZNAME:CET
DTSTART:20241027T010000
END:STANDARD
BEGIN:DAYLIGHT
TZOFFSETFROM:+0100
TZOFFSETTO:+0200
TZNAME:CEST
DTSTART:20250330T010000
END:DAYLIGHT
BEGIN:STANDARD
TZOFFSETFROM:+0200
TZOFFSETTO:+0100
TZNAME:CET
DTSTART:20251026T010000
END:STANDARD
BEGIN:DAYLIGHT
TZOFFSETFROM:+0100
TZOFFSETTO:+0200
TZNAME:CEST
DTSTART:20260329T010000
END:DAYLIGHT
BEGIN:STANDARD
TZOFFSETFROM:+0200
TZOFFSETTO:+0100
TZNAME:CET
DTSTART:20261025T010000
END:STANDARD
END:VTIMEZONE
BEGIN:VEVENT
DTSTART;TZID=Europe/Paris:20250301T193000
DTEND;TZID=Europe/Paris:20250301T213000
DTSTAMP:20260420T194503
CREATED:20250203T100443Z
LAST-MODIFIED:20250203T100924Z
UID:3672-1740857400-1740864600@maximusic.fr
SUMMARY:Karaoké Flunch Gramont
DESCRIPTION:
URL:https://maximusic.fr/agenda/karaoke-flunch-gramont/
END:VEVENT
BEGIN:VEVENT
DTSTART;TZID=Europe/Paris:20250306T170000
DTEND;TZID=Europe/Paris:20250306T170000
DTSTAMP:20260420T194503
CREATED:20250213T082724Z
LAST-MODIFIED:20250305T083210Z
UID:3676-1741280400-1741280400@maximusic.fr
SUMMARY:Dernier set DJ de descente aux flambeaux de la saison
DESCRIPTION:On clôture ces sets des vacances scolaires de février 2025 sur le plateau de Superbagnères. En attendant le feu d’artifice\, on se retrouve sur le plateau pour un Open Format à consonnance house
URL:https://maximusic.fr/agenda/derniere-descente-aux-flambeaux-de-la-saison/
ATTACH;FMTTYPE=image/png:https://maximusic.fr/wp-content/uploads/2023/11/dj-mix.png
END:VEVENT
BEGIN:VEVENT
DTSTART;TZID=Europe/Paris:20250307T193000
DTEND;TZID=Europe/Paris:20250308T020000
DTSTAMP:20260420T194503
CREATED:20250305T082720Z
LAST-MODIFIED:20250307T155954Z
UID:3688-1741375800-1741399200@maximusic.fr
SUMMARY:Soirée Disco et Années 80 au Bar le Montagnard
DESCRIPTION:Les sonorités Disco Funk et l’ensemble des Années 80 seront à l’honneur ce vendredi soir au Montagnard. Sors tes plus belles Paillettes pour une night mémorable
URL:https://maximusic.fr/agenda/soiree-disco-et-annees-80-au-bar-le-montagnard/
ATTACH;FMTTYPE=image/jpeg:https://maximusic.fr/wp-content/uploads/2018/07/11811402_10207321137177156_8979449264338505994_n.jpg
END:VEVENT
BEGIN:VEVENT
DTSTART;TZID=Europe/Paris:20250308T200000
DTEND;TZID=Europe/Paris:20250309T100000
DTSTAMP:20260420T194503
CREATED:20250213T083049Z
LAST-MODIFIED:20250213T083049Z
UID:3678-1741464000-1741514400@maximusic.fr
SUMMARY:Anniv de Margaux à Luchon
DESCRIPTION:
URL:https://maximusic.fr/agenda/anniv-de-margaux-a-luchon/
END:VEVENT
BEGIN:VEVENT
DTSTART;TZID=Europe/Paris:20250313T210000
DTEND;TZID=Europe/Paris:20250314T010000
DTSTAMP:20260420T194503
CREATED:20250305T083931Z
LAST-MODIFIED:20250305T084142Z
UID:3692-1741899600-1741914000@maximusic.fr
SUMMARY:Retour au Café des Artistes pour le karaoké du jeudi
DESCRIPTION:
URL:https://maximusic.fr/agenda/retour-au-cafe-des-artistes-pour-le-karaoke-du-jeudi/
END:VEVENT
BEGIN:VEVENT
DTSTART;TZID=Europe/Paris:20250314T220000
DTEND;TZID=Europe/Paris:20250315T020000
DTSTAMP:20260420T194503
CREATED:20250305T084249Z
LAST-MODIFIED:20250305T084429Z
UID:3694-1741989600-1742004000@maximusic.fr
SUMMARY:Le quiz mensuel du bowling de Rieux
DESCRIPTION:
URL:https://maximusic.fr/agenda/le-quiz-mensuel-du-bowling-de-rieux/
END:VEVENT
BEGIN:VEVENT
DTSTART;TZID=Europe/Paris:20250315T193000
DTEND;TZID=Europe/Paris:20250315T230000
DTSTAMP:20260420T194503
CREATED:20250305T084700Z
LAST-MODIFIED:20250305T084700Z
UID:3696-1742067000-1742079600@maximusic.fr
SUMMARY:La Grande Nuit 80-90 du Bascala
DESCRIPTION:
URL:https://maximusic.fr/agenda/la-grande-nuit-80-90-du-bascala/
END:VEVENT
BEGIN:VEVENT
DTSTART;TZID=Europe/Paris:20250316T170000
DTEND;TZID=Europe/Paris:20250317T003000
DTSTAMP:20260420T194503
CREATED:20250305T085121Z
LAST-MODIFIED:20250305T090002Z
UID:3699-1742144400-1742171400@maximusic.fr
SUMMARY:Le Closing de la Plète
DESCRIPTION:
URL:https://maximusic.fr/agenda/le-closing-de-la-plete/
END:VEVENT
BEGIN:VEVENT
DTSTART;TZID=Europe/Paris:20250318T203000
DTEND;TZID=Europe/Paris:20250318T203000
DTSTAMP:20260420T194503
CREATED:20250307T154237Z
LAST-MODIFIED:20250317T145144Z
UID:3720-1742329800-1742329800@maximusic.fr
SUMMARY:Deux Karaokés ce mois ci au Bistrot du 101
DESCRIPTION:Les deux derniers mardi du mois de mars sont consacrés au karaokés au Bistr0hot du 101. On s’y retrouve donc pour chanter dès 20h
URL:https://maximusic.fr/agenda/deux-karaokes-ce-mois-ci-au-bistot-du-101/
ATTACH;FMTTYPE=image/jpeg:https://maximusic.fr/wp-content/uploads/2024/01/karaoke.jpg
END:VEVENT
BEGIN:VEVENT
DTSTART;TZID=Europe/Paris:20250320T200000
DTEND;TZID=Europe/Paris:20250320T233000
DTSTAMP:20260420T194503
CREATED:20250305T090116Z
LAST-MODIFIED:20250319T092954Z
UID:3701-1742500800-1742513400@maximusic.fr
SUMMARY:La mensuelle des 3b
DESCRIPTION:Préparez vos playlists ou improvisez au moment avec les chanteurs du restaurant ! Le karaoké des  3 Brasseurs prend sa résidence mensulle ce jeudi à Blagnac. A vous de jouer
URL:https://maximusic.fr/agenda/la-mensuelle-des-3b-10/
ATTACH;FMTTYPE=image/png:https://maximusic.fr/wp-content/uploads/2025/03/3b-logo.png
END:VEVENT
BEGIN:VEVENT
DTSTART;TZID=Europe/Paris:20250322T213000
DTEND;TZID=Europe/Paris:20250323T023000
DTSTAMP:20260420T194503
CREATED:20250305T090237Z
LAST-MODIFIED:20250321T105350Z
UID:3703-1742679000-1742697000@maximusic.fr
SUMMARY:Soirée Quiz Karaoké et dance floor party O PAS SAGE à Saint-Orens
DESCRIPTION:On joue\, on chante et on danse O PAS SAGE à Saint-Orens \nPréparez vous à multiplier les plaisirs tout en vous régalant pour notre soirée mensuelle
URL:https://maximusic.fr/agenda/soiree-o-pas-sage-a-saint-orens/
END:VEVENT
BEGIN:VEVENT
DTSTART;TZID=Europe/Paris:20250325T203000
DTEND;TZID=Europe/Paris:20250325T233000
DTSTAMP:20260420T194503
CREATED:20250305T090518Z
LAST-MODIFIED:20250317T145630Z
UID:3705-1742934600-1742945400@maximusic.fr
SUMMARY:Dernier karaoké en mars au BIstrot du 101
DESCRIPTION:
URL:https://maximusic.fr/agenda/karaoke-mensuel-du-bistrot-du-101/
END:VEVENT
BEGIN:VEVENT
DTSTART;TZID=Europe/Paris:20250327T210000
DTEND;TZID=Europe/Paris:20250328T010000
DTSTAMP:20260420T194503
CREATED:20250305T091143Z
LAST-MODIFIED:20250326T101158Z
UID:3707-1743109200-1743123600@maximusic.fr
SUMMARY:Karaoké du Café des Artistes
DESCRIPTION:On chante de 21h à 1h du matin tous les jeudi soir aux café des artistes\, quait de la daurade. Seras-tu la ?
URL:https://maximusic.fr/agenda/karaoke-du-cafe-des-artistes-3/
ATTACH;FMTTYPE=image/jpeg:https://maximusic.fr/wp-content/uploads/2024/06/cafe-des-artistes-toulouse-france-mjh3gt-1.jpg
END:VEVENT
BEGIN:VEVENT
DTSTART;TZID=Europe/Paris:20250328T210000
DTEND;TZID=Europe/Paris:20250329T010000
DTSTAMP:20260420T194503
CREATED:20250305T092234Z
LAST-MODIFIED:20250305T092234Z
UID:3709-1743195600-1743210000@maximusic.fr
SUMMARY:Le Quiz de L'empire du Malt
DESCRIPTION:
URL:https://maximusic.fr/agenda/le-quiz-de-lempire-du-malt-3/
END:VEVENT
BEGIN:VEVENT
DTSTART;TZID=Europe/Paris:20250329T210000
DTEND;TZID=Europe/Paris:20250330T053000
DTSTAMP:20260420T194503
CREATED:20250305T092434Z
LAST-MODIFIED:20250305T092434Z
UID:3711-1743282000-1743312600@maximusic.fr
SUMMARY:Anniv surprise à Gratens
DESCRIPTION:
URL:https://maximusic.fr/agenda/anniv-surprise-a-gratens/
END:VEVENT
END:VCALENDAR