BEGIN:VCALENDAR
VERSION:2.0
PRODID:-//MaxiMusic - ECPv6.15.20//NONSGML v1.0//EN
CALSCALE:GREGORIAN
METHOD:PUBLISH
X-ORIGINAL-URL:https://maximusic.fr
X-WR-CALDESC:Évènements pour MaxiMusic
REFRESH-INTERVAL;VALUE=DURATION:PT1H
X-Robots-Tag:noindex
X-PUBLISHED-TTL:PT1H
BEGIN:VTIMEZONE
TZID:Europe/Paris
BEGIN:DAYLIGHT
TZOFFSETFROM:+0100
TZOFFSETTO:+0200
TZNAME:CEST
DTSTART:20240331T010000
END:DAYLIGHT
BEGIN:STANDARD
TZOFFSETFROM:+0200
TZOFFSETTO:+0100
TZNAME:CET
DTSTART:20241027T010000
END:STANDARD
BEGIN:DAYLIGHT
TZOFFSETFROM:+0100
TZOFFSETTO:+0200
TZNAME:CEST
DTSTART:20250330T010000
END:DAYLIGHT
BEGIN:STANDARD
TZOFFSETFROM:+0200
TZOFFSETTO:+0100
TZNAME:CET
DTSTART:20251026T010000
END:STANDARD
BEGIN:DAYLIGHT
TZOFFSETFROM:+0100
TZOFFSETTO:+0200
TZNAME:CEST
DTSTART:20260329T010000
END:DAYLIGHT
BEGIN:STANDARD
TZOFFSETFROM:+0200
TZOFFSETTO:+0100
TZNAME:CET
DTSTART:20261025T010000
END:STANDARD
END:VTIMEZONE
BEGIN:VEVENT
DTSTART;TZID=Europe/Paris:20250201T200000
DTEND;TZID=Europe/Paris:20250202T043000
DTSTAMP:20260420T180718
CREATED:20250109T103447Z
LAST-MODIFIED:20250109T103447Z
UID:3620-1738440000-1738470600@maximusic.fr
SUMMARY:Soirée d'Anniversaire O pas sage
DESCRIPTION:
URL:https://maximusic.fr/agenda/soiree-danniversaire-o-pas-sage/
END:VEVENT
BEGIN:VEVENT
DTSTART;TZID=Europe/Paris:20250203T193000
DTEND;TZID=Europe/Paris:20250203T213000
DTSTAMP:20260420T180718
CREATED:20250203T091649Z
LAST-MODIFIED:20250203T091649Z
UID:3651-1738611000-1738618200@maximusic.fr
SUMMARY:On joue à la Brasserie Hectare
DESCRIPTION:Direction la brasserie Hectare entre Toulouse et Colomiers pour ce lundi soir\, 3 manches au programme de la soirée
URL:https://maximusic.fr/agenda/on-joue-a-la-brasserie-hectare/
ATTACH;FMTTYPE=image/jpeg:https://maximusic.fr/wp-content/uploads/2018/07/t40_t30-119958_3_134778.jpg
END:VEVENT
BEGIN:VEVENT
DTSTART;TZID=Europe/Paris:20250205T193000
DTEND;TZID=Europe/Paris:20250205T233000
DTSTAMP:20260420T180718
CREATED:20250113T101758Z
LAST-MODIFIED:20250203T101342Z
UID:3629-1738783800-1738798200@maximusic.fr
SUMMARY:Quiz Jacques Fenouillet
DESCRIPTION:
URL:https://maximusic.fr/agenda/quiz-jacques-fenouillet-3/
END:VEVENT
BEGIN:VEVENT
DTSTART;TZID=Europe/Paris:20250206T200000
DTEND;TZID=Europe/Paris:20250206T233000
DTSTAMP:20260420T180718
CREATED:20250113T102031Z
LAST-MODIFIED:20250113T102031Z
UID:3631-1738872000-1738884600@maximusic.fr
SUMMARY:On Fête la Chandeleur au Bascala
DESCRIPTION:
URL:https://maximusic.fr/agenda/on-fete-la-chandeleur-au-bascala/
END:VEVENT
BEGIN:VEVENT
DTSTART;TZID=Europe/Paris:20250208T183000
DTEND;TZID=Europe/Paris:20250209T020000
DTSTAMP:20260420T180718
CREATED:20250113T102254Z
LAST-MODIFIED:20250113T102254Z
UID:3633-1739039400-1739066400@maximusic.fr
SUMMARY:Quiz Party pour le comité des fêtes de Sauveterre
DESCRIPTION:
URL:https://maximusic.fr/agenda/quiz-party-pour-le-comite-des-fetes-de-sauveterre/
END:VEVENT
BEGIN:VEVENT
DTSTART;TZID=Europe/Paris:20250213T160000
DTEND;TZID=Europe/Paris:20250213T203000
DTSTAMP:20260420T180718
CREATED:20250120T083704Z
LAST-MODIFIED:20250213T084427Z
UID:3637-1739462400-1739478600@maximusic.fr
SUMMARY:Descente aux flambeaux en musique à Superbagnères
DESCRIPTION:Pour cette première semaine de vacances sur le sol français\, animation sur le plateau de Superbagnères avec la descente aux flambeaux des moniteurs de l’ESF\, elle sera sonorisée par les soins de Maximusic. Rendez vous dès 16h devant la billetterie.
URL:https://maximusic.fr/agenda/chez-jacques-blagnac-le-quiz-du-mercredi/
ATTACH;FMTTYPE=image/jpeg:https://maximusic.fr/wp-content/uploads/2025/01/luchon-super.jpg
END:VEVENT
BEGIN:VEVENT
DTSTART;TZID=Europe/Paris:20250214T190000
DTEND;TZID=Europe/Paris:20250214T213000
DTSTAMP:20260420T180718
CREATED:20250203T092125Z
LAST-MODIFIED:20250203T092458Z
UID:3654-1739559600-1739568600@maximusic.fr
SUMMARY:Le karaoké de la Saint-Valentin à Flunch Blagnac
DESCRIPTION:
URL:https://maximusic.fr/agenda/le-karaoke-de-la-saint-valentin-a-flunch-blagnac/
END:VEVENT
BEGIN:VEVENT
DTSTART;TZID=Europe/Paris:20250214T230000
DTEND;TZID=Europe/Paris:20250215T050000
DTSTAMP:20260420T180718
CREATED:20250120T084511Z
LAST-MODIFIED:20250120T084725Z
UID:3641-1739574000-1739595600@maximusic.fr
SUMMARY:St Valentin aux Guinguettes à Montauban
DESCRIPTION:
URL:https://maximusic.fr/agenda/st-valentin-aux-guinguettes-a-montauban/
END:VEVENT
BEGIN:VEVENT
DTSTART;TZID=Europe/Paris:20250215T190000
DTEND;TZID=Europe/Paris:20250215T213000
DTSTAMP:20260420T180718
CREATED:20250120T085200Z
LAST-MODIFIED:20250203T093542Z
UID:3643-1739646000-1739655000@maximusic.fr
SUMMARY:Karaoké au Flunch Labège
DESCRIPTION:19
URL:https://maximusic.fr/agenda/karaoke-au-flunch-labege/
END:VEVENT
BEGIN:VEVENT
DTSTART;TZID=Europe/Paris:20250219T193000
DTEND;TZID=Europe/Paris:20250219T213000
DTSTAMP:20260420T180718
CREATED:20250203T094111Z
LAST-MODIFIED:20250203T094111Z
UID:3660-1739993400-1740000600@maximusic.fr
SUMMARY:Chez Jacques Balma\, on joue ce mercredi 19 février
DESCRIPTION:
URL:https://maximusic.fr/agenda/chez-jacques-balma-on-joue-ce-mercredi-19-fevrier/
END:VEVENT
BEGIN:VEVENT
DTSTART;TZID=Europe/Paris:20250220T180000
DTEND;TZID=Europe/Paris:20250221T010000
DTSTAMP:20260420T180718
CREATED:20250203T094333Z
LAST-MODIFIED:20250203T095206Z
UID:3662-1740074400-1740099600@maximusic.fr
SUMMARY:Séminaire La Banque Postale à Bordeaux
DESCRIPTION:
URL:https://maximusic.fr/agenda/seminaire-la-banque-postale-a-bordeaux/
END:VEVENT
BEGIN:VEVENT
DTSTART;TZID=Europe/Paris:20250221T220000
DTEND;TZID=Europe/Paris:20250222T020000
DTSTAMP:20260420T180718
CREATED:20250203T095341Z
LAST-MODIFIED:20250203T095451Z
UID:3664-1740175200-1740189600@maximusic.fr
SUMMARY:Quiz au Bowling des Pyrénées
DESCRIPTION:22
URL:https://maximusic.fr/agenda/quiz-au-bowling-des-pyrenees/
END:VEVENT
BEGIN:VEVENT
DTSTART;TZID=Europe/Paris:20250222T173000
DTEND;TZID=Europe/Paris:20250223T030000
DTSTAMP:20260420T180718
CREATED:20250203T095738Z
LAST-MODIFIED:20250203T095738Z
UID:3666-1740245400-1740279600@maximusic.fr
SUMMARY:Les 40 ans de Christel
DESCRIPTION:
URL:https://maximusic.fr/agenda/les-40-ans-de-christel/
END:VEVENT
BEGIN:VEVENT
DTSTART;TZID=Europe/Paris:20250227T163000
DTEND;TZID=Europe/Paris:20250227T210000
DTSTAMP:20260420T180718
CREATED:20250203T095941Z
LAST-MODIFIED:20250203T095941Z
UID:3668-1740673800-1740690000@maximusic.fr
SUMMARY:Descente aux flambeaux à Superbagnères
DESCRIPTION:
URL:https://maximusic.fr/agenda/descente-aux-flambeaux-a-superbagneres/
END:VEVENT
BEGIN:VEVENT
DTSTART;TZID=Europe/Paris:20250228T203000
DTEND;TZID=Europe/Paris:20250301T010000
DTSTAMP:20260420T180718
CREATED:20250203T100249Z
LAST-MODIFIED:20250203T100249Z
UID:3670-1740774600-1740790800@maximusic.fr
SUMMARY:Le karaoké de l'Empire du Malt
DESCRIPTION:
URL:https://maximusic.fr/agenda/le-karaoke-de-lempire-du-malt/
ATTACH;FMTTYPE=image/jpeg:https://maximusic.fr/wp-content/uploads/2021/09/3CD01928-0270-4FE2-8FDD-8776966EFD54.jpeg
END:VEVENT
END:VCALENDAR