BEGIN:VCALENDAR
VERSION:2.0
PRODID:-//MaxiMusic - ECPv6.15.20//NONSGML v1.0//EN
CALSCALE:GREGORIAN
METHOD:PUBLISH
X-WR-CALNAME:MaxiMusic
X-ORIGINAL-URL:https://maximusic.fr
X-WR-CALDESC:Évènements pour MaxiMusic
REFRESH-INTERVAL;VALUE=DURATION:PT1H
X-Robots-Tag:noindex
X-PUBLISHED-TTL:PT1H
BEGIN:VTIMEZONE
TZID:Europe/Paris
BEGIN:DAYLIGHT
TZOFFSETFROM:+0100
TZOFFSETTO:+0200
TZNAME:CEST
DTSTART:20230326T010000
END:DAYLIGHT
BEGIN:STANDARD
TZOFFSETFROM:+0200
TZOFFSETTO:+0100
TZNAME:CET
DTSTART:20231029T010000
END:STANDARD
BEGIN:DAYLIGHT
TZOFFSETFROM:+0100
TZOFFSETTO:+0200
TZNAME:CEST
DTSTART:20240331T010000
END:DAYLIGHT
BEGIN:STANDARD
TZOFFSETFROM:+0200
TZOFFSETTO:+0100
TZNAME:CET
DTSTART:20241027T010000
END:STANDARD
BEGIN:DAYLIGHT
TZOFFSETFROM:+0100
TZOFFSETTO:+0200
TZNAME:CEST
DTSTART:20250330T010000
END:DAYLIGHT
BEGIN:STANDARD
TZOFFSETFROM:+0200
TZOFFSETTO:+0100
TZNAME:CET
DTSTART:20251026T010000
END:STANDARD
END:VTIMEZONE
BEGIN:VEVENT
DTSTART;TZID=Europe/Paris:20241001T190000
DTEND;TZID=Europe/Paris:20241001T233000
DTSTAMP:20260420T115115
CREATED:20241003T163156Z
LAST-MODIFIED:20241003T163156Z
UID:3391-1727809200-1727825400@maximusic.fr
SUMMARY:le QUIZ du Bistrot 101
DESCRIPTION:
URL:https://maximusic.fr/agenda/le-quiz-du-bistrot-101/
END:VEVENT
BEGIN:VEVENT
DTSTART;TZID=Europe/Paris:20241003T190000
DTEND;TZID=Europe/Paris:20241003T233000
DTSTAMP:20260420T115115
CREATED:20240904T104447Z
LAST-MODIFIED:20240904T104447Z
UID:3363-1727982000-1727998200@maximusic.fr
SUMMARY:Retour au Bascala
DESCRIPTION:C’est la rentrée à Bruguieres pour les afterwork du Bascala. REndez vous dans le hall de la salle pour un moment festif
URL:https://maximusic.fr/agenda/retour-au-bascala/
ATTACH;FMTTYPE=image/jpeg:https://maximusic.fr/wp-content/uploads/2018/07/12670569_10208567138846419_5524173232994429111_n.jpg
END:VEVENT
BEGIN:VEVENT
DTSTART;TZID=Europe/Paris:20241004T200000
DTEND;TZID=Europe/Paris:20241004T200000
DTSTAMP:20260420T115115
CREATED:20240904T105025Z
LAST-MODIFIED:20240904T105025Z
UID:3365-1728072000-1728072000@maximusic.fr
SUMMARY:Rentrée des Quiz Chez Rom's
DESCRIPTION:Petite inversion Calendaire  dans la proposition Quiz Chez Rom’s. \nLes quiz seront désormais les premiers vendredi du mois et on vous y attend pour tester dans la bonne humeur vos conniassances.
URL:https://maximusic.fr/agenda/rentree-des-quiz-chez-roms/
ATTACH;FMTTYPE=image/jpeg:https://maximusic.fr/wp-content/uploads/2024/09/chez-roms.jpg
END:VEVENT
BEGIN:VEVENT
DTSTART;TZID=Europe/Paris:20241005T200000
DTEND;TZID=Europe/Paris:20241006T050000
DTSTAMP:20260420T115115
CREATED:20240904T105516Z
LAST-MODIFIED:20241005T165702Z
UID:3368-1728158400-1728190800@maximusic.fr
SUMMARY:Nouveau mariage à la Métairie du Chateau
DESCRIPTION:La saison des mariages se poursuit dans la bonne humeur et les grands moments d’émotion et de fête autour de La Métairie du Chateau. 80 personnes fêteront Anaïs et Antoine
URL:https://maximusic.fr/agenda/nouveau-mariage-a-la-metairie-du-chateau-2/
ATTACH;FMTTYPE=image/jpeg:https://maximusic.fr/wp-content/uploads/2024/09/metairie.jpeg
END:VEVENT
BEGIN:VEVENT
DTSTART;TZID=Europe/Paris:20241008T190000
DTEND;TZID=Europe/Paris:20241008T233000
DTSTAMP:20260420T115115
CREATED:20241003T163655Z
LAST-MODIFIED:20241003T163655Z
UID:3393-1728414000-1728430200@maximusic.fr
SUMMARY:Nouvelle animation au 101
DESCRIPTION:On se retrouve déso101 rmais tous les mardi au Bistrot 101 \nQuiz Karaoké ou animation surprise\, suivez l’info sur la page du Bistrot 101
URL:https://maximusic.fr/agenda/nouvelle-animation-au-101/
END:VEVENT
BEGIN:VEVENT
DTSTART;TZID=Europe/Paris:20241009T200000
DTEND;TZID=Europe/Paris:20241009T230000
DTSTAMP:20260420T115115
CREATED:20241003T165759Z
LAST-MODIFIED:20241009T095801Z
UID:3395-1728504000-1728514800@maximusic.fr
SUMMARY:Nouveau QUIZ CHEZ JACQUES
DESCRIPTION:Désormais Maximusic vous propose des animations tous les mercredis soir dans les 3 Jacques de l’agglomération toulousaine avec un QUIZ BLIND TEST du coté de Blagnac cette semaine. Révisez\, on vous prépare les buzzers et 3 manches acérées pour vous tester. \nQCM général \nBlind Test 2000’s \nQCM Disney
URL:https://maximusic.fr/agenda/nouveau-quiz-chez-jacques/
ATTACH;FMTTYPE=image/jpeg:https://maximusic.fr/wp-content/uploads/2024/10/jacques-pub.jpg
END:VEVENT
BEGIN:VEVENT
DTSTART;TZID=Europe/Paris:20241010T210000
DTEND;TZID=Europe/Paris:20241010T210000
DTSTAMP:20260420T115115
CREATED:20240913T134038Z
LAST-MODIFIED:20240913T134038Z
UID:3378-1728594000-1728594000@maximusic.fr
SUMMARY:Nouveau set chantant au Café des Artistes
DESCRIPTION:Les feuilles d’automne n’empechent pas les gens de s’amuser et de donner de la voix tous les jeudi au café des artistes à Toulouse. Mise à feu dès 21h
URL:https://maximusic.fr/agenda/nouveau-set-chantant-au-cafe-des-artistes/
END:VEVENT
BEGIN:VEVENT
DTSTART;TZID=Europe/Paris:20241011T200000
DTEND;TZID=Europe/Paris:20241012T020000
DTSTAMP:20260420T115115
CREATED:20240913T134348Z
LAST-MODIFIED:20240913T134459Z
UID:3380-1728676800-1728698400@maximusic.fr
SUMMARY:Le Quiz de l'After By M
DESCRIPTION:Après une premiere  session estivale\, l’after by m à Pinsaguel refait un quiz pour ses clients et tous les amoureux du lieu prêts à en découdre autour de questions de culture générale et de Blind test musicaux.
URL:https://maximusic.fr/agenda/le-quiz-de-lafter-by-m/
END:VEVENT
BEGIN:VEVENT
DTSTART;TZID=Europe/Paris:20241012T193000
DTEND;TZID=Europe/Paris:20241013T050000
DTSTAMP:20260420T115115
CREATED:20240913T134819Z
LAST-MODIFIED:20240913T134819Z
UID:3382-1728761400-1728795600@maximusic.fr
SUMMARY:Big Wedding à Montréjeau
DESCRIPTION:Alexis et Mathilde seront à l’honneur lors de cette journée qui leur est dédié autour de leur proches et leurs familles respectives
URL:https://maximusic.fr/agenda/big-wedding-a-montrejeau/
END:VEVENT
BEGIN:VEVENT
DTSTART;TZID=Europe/Paris:20241013T100000
DTEND;TZID=Europe/Paris:20241013T170000
DTSTAMP:20260420T115115
CREATED:20240913T135352Z
LAST-MODIFIED:20241009T100610Z
UID:3384-1728813600-1728838800@maximusic.fr
SUMMARY:Octobre Rose 5ème édition à Luchon
DESCRIPTION:Nouvelle édition d’octobre rose à Luchon \nAutour des organisatrices Vanessa et Coralie\, les participants feront une bonne action tout en se faisant plaisir et en faisant leur sport dominical dans les rue de la cité thermale. \nTous les dons aideront à la recherchr
URL:https://maximusic.fr/agenda/octobre-rose-5ieme-edition-a-luchon/
END:VEVENT
BEGIN:VEVENT
DTSTART;TZID=Europe/Paris:20241015T203000
DTEND;TZID=Europe/Paris:20241015T233000
DTSTAMP:20260420T115115
CREATED:20241004T120443Z
LAST-MODIFIED:20241009T100836Z
UID:3399-1729024200-1729035000@maximusic.fr
SUMMARY:Karaoké au Bistrot du 101
DESCRIPTION:Chaque mardi\, on s’amuse au Bistrot du 101 avec des karaokés qui animent vos soirées du mardi avec un écran de 6m2 dédié aux chateurs
URL:https://maximusic.fr/agenda/les-animations-du-101/
END:VEVENT
BEGIN:VEVENT
DTSTART;TZID=Europe/Paris:20241016T200000
DTEND;TZID=Europe/Paris:20241016T230000
DTSTAMP:20260420T115115
CREATED:20241004T121153Z
LAST-MODIFIED:20241009T100950Z
UID:3401-1729108800-1729119600@maximusic.fr
SUMMARY:Quiz chez Jacques Balma
DESCRIPTION:Chaqe mercredi\, on joue ou on chante dans les 3 restaurants CHEZ JACQUES de l’agglo toulousaine \nCe mercredi soir Maximusic vous propose un Quiz à Balma. 3 manches avec buzzer au programme
URL:https://maximusic.fr/agenda/quiz-chez-jacques/
END:VEVENT
BEGIN:VEVENT
DTSTART;TZID=Europe/Paris:20241017T200000
DTEND;TZID=Europe/Paris:20241017T233000
DTSTAMP:20260420T115115
CREATED:20241004T132313Z
LAST-MODIFIED:20241004T132432Z
UID:3403-1729195200-1729207800@maximusic.fr
SUMMARY:La mensuelle des 3B
DESCRIPTION:Direction les 3 B Blagnac pour le karaoké mensuel \nOn y chante dès 20h
URL:https://maximusic.fr/agenda/la-mensuelle-des-3b-8/
END:VEVENT
BEGIN:VEVENT
DTSTART;TZID=Europe/Paris:20241018T130000
DTEND;TZID=Europe/Paris:20241018T170000
DTSTAMP:20260420T115115
CREATED:20241004T133241Z
LAST-MODIFIED:20241009T101158Z
UID:3405-1729256400-1729270800@maximusic.fr
SUMMARY:Animation pour les ainés et leur famille\, Place Gabriel Rouy à Luchon
DESCRIPTION:Nos ainés aussi aiment s’amuser\, et ils pourront jouer en quiz danser et chanter ce vendredi midi avec la présence de leurs familles
URL:https://maximusic.fr/agenda/animation-pour-les-aines-place-gabriel-rouy/
END:VEVENT
BEGIN:VEVENT
DTSTART;TZID=Europe/Paris:20241018T220000
DTEND;TZID=Europe/Paris:20241019T050000
DTSTAMP:20260420T115115
CREATED:20241005T100933Z
LAST-MODIFIED:20241005T100933Z
UID:3408-1729288800-1729314000@maximusic.fr
SUMMARY:Retour au Hot Club
DESCRIPTION:Apres deu sets au printemps\, Maximusic reprend les commandes du HOT CLUB  pour une soirée chaude et endiablée
URL:https://maximusic.fr/agenda/retour-au-hot-club-2/
END:VEVENT
BEGIN:VEVENT
DTSTART;TZID=Europe/Paris:20241019T200000
DTEND;TZID=Europe/Paris:20241020T040000
DTSTAMP:20260420T115115
CREATED:20241005T165442Z
LAST-MODIFIED:20241019T203430Z
UID:3434-1729368000-1729396800@maximusic.fr
SUMMARY:Soirée des anciens du foot de Cierp Gaud
DESCRIPTION:Plus de 150 personnes ont répondu à l’invitation de lJoel Colcy coach durant + de 12 ans au club. \nDu festif au programme avec le DJ set de Maximusix \nDu souvenir aussi avec la Borne à Selfies Maximusic
URL:https://maximusic.fr/agenda/soiree-des-anciens-du-foot-de-cierp-gaud/
ATTACH;FMTTYPE=image/png:https://maximusic.fr/wp-content/uploads/2023/11/dj-mix.png
END:VEVENT
BEGIN:VEVENT
DTSTART;TZID=Europe/Paris:20241022T200000
DTEND;TZID=Europe/Paris:20241022T233000
DTSTAMP:20260420T115115
CREATED:20241005T101307Z
LAST-MODIFIED:20241021T141211Z
UID:3410-1729627200-1729639800@maximusic.fr
SUMMARY:karaoké du 101
DESCRIPTION:On chante tous les mardi au Bistrot du 101 et on s’amuse autour d’un écran de plus de 6m. Seul ou à plusieurs choisissez dans un catalogue de + de 60000 titres
URL:https://maximusic.fr/agenda/karaoke-du-101/
ATTACH;FMTTYPE=image/jpeg:https://maximusic.fr/wp-content/uploads/2024/10/bistrot101.jpg
END:VEVENT
BEGIN:VEVENT
DTSTART;TZID=Europe/Paris:20241023T200000
DTEND;TZID=Europe/Paris:20241024T003000
DTSTAMP:20260420T115115
CREATED:20241005T101539Z
LAST-MODIFIED:20241023T155837Z
UID:3412-1729713600-1729729800@maximusic.fr
SUMMARY:Quiz JACQUES Fenouillet
DESCRIPTION:Comme tous les mercredi de nombreuses animations se déroulent au restaurant JACQUES de l’agglo toulousaine. Ce soir on joue à Fenouillet avec des quiz et des blind test dynamiques pour le client du restaurant. \nstart 20h
URL:https://maximusic.fr/agenda/quiz-jacques-fenouillet/
ATTACH;FMTTYPE=image/jpeg:https://maximusic.fr/wp-content/uploads/2018/07/t40_t30-119958_3_134778.jpg
END:VEVENT
BEGIN:VEVENT
DTSTART;TZID=Europe/Paris:20241024T210000
DTEND;TZID=Europe/Paris:20241025T010000
DTSTAMP:20260420T115115
CREATED:20241005T161723Z
LAST-MODIFIED:20241021T141557Z
UID:3416-1729803600-1729818000@maximusic.fr
SUMMARY:Nouveau véhicule à BMW Tarbes
DESCRIPTION:De retour à Tarbes\, ce jeudi avec l’équipe de BMW Tarbes pour un lancement de véhicules\, une des nouveautés majeure de la gamme
URL:https://maximusic.fr/agenda/on-chante-au-cafe-des-artistes-9/
END:VEVENT
BEGIN:VEVENT
DTSTART;TZID=Europe/Paris:20241025T210000
DTEND;TZID=Europe/Paris:20241026T010000
DTSTAMP:20260420T115115
CREATED:20241005T162015Z
LAST-MODIFIED:20241005T162015Z
UID:3418-1729890000-1729904400@maximusic.fr
SUMMARY:Le Quiz de l'Empire du Malt
DESCRIPTION:
URL:https://maximusic.fr/agenda/le-quiz-de-lempire-du-malt-2/
END:VEVENT
BEGIN:VEVENT
DTSTART;TZID=Europe/Paris:20241026T170000
DTEND;TZID=Europe/Paris:20241027T050000
DTSTAMP:20260420T115115
CREATED:20241005T164208Z
LAST-MODIFIED:20241005T164208Z
UID:3420-1729962000-1730005200@maximusic.fr
SUMMARY:Mariage à la montagne
DESCRIPTION:En ce dernier week end d’octobre\, on se retrouve dans le larboust antal pour un nouveau mariage05
URL:https://maximusic.fr/agenda/mariage-a-la-montagne/
END:VEVENT
BEGIN:VEVENT
DTSTART;TZID=Europe/Paris:20241029T203000
DTEND;TZID=Europe/Paris:20241029T233000
DTSTAMP:20260420T115115
CREATED:20241005T164339Z
LAST-MODIFIED:20241028T085810Z
UID:3422-1730233800-1730244600@maximusic.fr
SUMMARY:Le Karaoké du 101
DESCRIPTION:nouveau rdv chantant au Bistrot du 101 avec de la bonne humeur\, des chants joyeux\, des perfomances vocales et de la bonne humeur
URL:https://maximusic.fr/agenda/le-karaoke-du-101/
ATTACH;FMTTYPE=image/jpeg:https://maximusic.fr/wp-content/uploads/2024/10/bistrot101.jpg
END:VEVENT
BEGIN:VEVENT
DTSTART;TZID=Europe/Paris:20241030T210000
DTEND;TZID=Europe/Paris:20241030T233000
DTSTAMP:20260420T115115
CREATED:20241005T164536Z
LAST-MODIFIED:20241009T101842Z
UID:3424-1730322000-1730331000@maximusic.fr
SUMMARY:le QUIZ du mercredi chez JACQUES BLAGNAC
DESCRIPTION:Deuxième quiz au Jacques Blagnac ce 30 octobre
URL:https://maximusic.fr/agenda/le-quiz-du-mercredi-chez-jacques/
END:VEVENT
BEGIN:VEVENT
DTSTART;TZID=Europe/Paris:20241031T213000
DTEND;TZID=Europe/Paris:20241101T020000
DTSTAMP:20260420T115115
CREATED:20241005T164724Z
LAST-MODIFIED:20241005T164724Z
UID:3427-1730410200-1730426400@maximusic.fr
SUMMARY:Halloween à L'AFTER BY M
DESCRIPTION:80220
URL:https://maximusic.fr/agenda/halloween-a-lafter-by-m/
END:VEVENT
END:VCALENDAR