BEGIN:VCALENDAR
VERSION:2.0
PRODID:-//MaxiMusic - ECPv6.15.20//NONSGML v1.0//EN
CALSCALE:GREGORIAN
METHOD:PUBLISH
X-ORIGINAL-URL:https://maximusic.fr
X-WR-CALDESC:Évènements pour MaxiMusic
REFRESH-INTERVAL;VALUE=DURATION:PT1H
X-Robots-Tag:noindex
X-PUBLISHED-TTL:PT1H
BEGIN:VTIMEZONE
TZID:Europe/Paris
BEGIN:DAYLIGHT
TZOFFSETFROM:+0100
TZOFFSETTO:+0200
TZNAME:CEST
DTSTART:20230326T010000
END:DAYLIGHT
BEGIN:STANDARD
TZOFFSETFROM:+0200
TZOFFSETTO:+0100
TZNAME:CET
DTSTART:20231029T010000
END:STANDARD
BEGIN:DAYLIGHT
TZOFFSETFROM:+0100
TZOFFSETTO:+0200
TZNAME:CEST
DTSTART:20240331T010000
END:DAYLIGHT
BEGIN:STANDARD
TZOFFSETFROM:+0200
TZOFFSETTO:+0100
TZNAME:CET
DTSTART:20241027T010000
END:STANDARD
BEGIN:DAYLIGHT
TZOFFSETFROM:+0100
TZOFFSETTO:+0200
TZNAME:CEST
DTSTART:20250330T010000
END:DAYLIGHT
BEGIN:STANDARD
TZOFFSETFROM:+0200
TZOFFSETTO:+0100
TZNAME:CET
DTSTART:20251026T010000
END:STANDARD
END:VTIMEZONE
BEGIN:VEVENT
DTSTART;TZID=Europe/Paris:20240905T210000
DTEND;TZID=Europe/Paris:20240906T010000
DTSTAMP:20260420T100118
CREATED:20240830T105242Z
LAST-MODIFIED:20240904T103907Z
UID:3326-1725570000-1725584400@maximusic.fr
SUMMARY:Nouvelle saison des karaokés au Café Des Artistes
DESCRIPTION:On redémarre la saison des karaokés du Café des Artistes. Plus précisémént\, on continue car\, c’est tous les jeudi de l’année 21h-1h du matin. \nVenez continuer à vous faire plaisir ce premier jeudi de septembre ou venez prendre vos marques pour une nouvelle saison de folie
URL:https://maximusic.fr/agenda/nouvelle-saison-de-karaoke/
ATTACH;FMTTYPE=image/jpeg:https://maximusic.fr/wp-content/uploads/2024/06/cafe-des-artistes-toulouse-france-mjh3gt-1.jpg
END:VEVENT
BEGIN:VEVENT
DTSTART;TZID=Europe/Paris:20240906T190000
DTEND;TZID=Europe/Paris:20240907T020000
DTSTAMP:20260420T100118
CREATED:20240830T105930Z
LAST-MODIFIED:20240830T105930Z
UID:3328-1725649200-1725674400@maximusic.fr
SUMMARY:Les vendredi de l'After By M
DESCRIPTION:Depuis le début de l’été\, à Pinsaguel\, on peut danser chanter boire de délicieux cocktails à l’After By M\, la nouvelle guinguette à ne pas louper. Rdv tous les vendredi de septembren pour des quiz\, des karaokés et des set dj’s
URL:https://maximusic.fr/agenda/les-vendredi-de-lafter-by-m/
ATTACH;FMTTYPE=image/jpeg:https://maximusic.fr/wp-content/uploads/2024/08/after-by-m.jpg
END:VEVENT
BEGIN:VEVENT
DTSTART;TZID=Europe/Paris:20240907T170000
DTEND;TZID=Europe/Paris:20240908T050000
DTSTAMP:20260420T100118
CREATED:20240830T110547Z
LAST-MODIFIED:20240830T110547Z
UID:3330-1725728400-1725771600@maximusic.fr
SUMMARY:Nouveau mariage\, by Maximusic
DESCRIPTION:Une sélection musicale sur-mesure\, adaptée aux mariés et auxnvités. Des mix enchaînés avec fluidité pour maintenir l’énergie sur la piste de danse. Une sonorisation de haute qualité pour un son clair et puissant. Des jeux de lumière synchronisés pour une atmosphère féérique. Voila une partie des éléments que retrouveront les mariés de ce premier samedi de septembre au domaine de la Bourdette dans le 81
URL:https://maximusic.fr/agenda/nouveau-mariage-by-maximusic/
ATTACH;FMTTYPE=image/jpeg:https://maximusic.fr/wp-content/uploads/2024/05/decoration-mariage-haut-de-gamme-12.jpg
END:VEVENT
BEGIN:VEVENT
DTSTART;TZID=Europe/Paris:20240912T210000
DTEND;TZID=Europe/Paris:20240913T010000
DTSTAMP:20260420T100118
CREATED:20240904T070414Z
LAST-MODIFIED:20240904T070414Z
UID:3337-1726174800-1726189200@maximusic.fr
SUMMARY:Le café des artistes haut lieu de Karaoké
DESCRIPTION:C’est désormais un rdv prisé le jeudi soir. On chante et on s’amuse quai de la daurade au Café des Artistes lors du karaoké hebdomadaire
URL:https://maximusic.fr/agenda/le-cafe-des-artistes-haut-lieu-de-karaoke/
ATTACH;FMTTYPE=image/jpeg:https://maximusic.fr/wp-content/uploads/2024/06/cafe-des-artistes-toulouse-france-mjh3gt-1.jpg
END:VEVENT
BEGIN:VEVENT
DTSTART;TZID=Europe/Paris:20240913T180000
DTEND;TZID=Europe/Paris:20240914T020000
DTSTAMP:20260420T100118
CREATED:20240904T070824Z
LAST-MODIFIED:20240913T140209Z
UID:3339-1726250400-1726279200@maximusic.fr
SUMMARY:Soirée 80-90 à l'After By M
DESCRIPTION:Ce mois de septembre\, on se retrouve pour l’été indien de l’After By M. \nEn ce vendredi soir\, soirée old school avec une spéciale 80-90. \n 
URL:https://maximusic.fr/agenda/les-vendredi-de-lafter-by-m-2/
ATTACH;FMTTYPE=image/jpeg:https://maximusic.fr/wp-content/uploads/2024/08/after-by-m.jpg
END:VEVENT
BEGIN:VEVENT
DTSTART;TZID=Europe/Paris:20240914T180000
DTEND;TZID=Europe/Paris:20240915T053000
DTSTAMP:20260420T100118
CREATED:20240904T071513Z
LAST-MODIFIED:20240904T071513Z
UID:3341-1726336800-1726378200@maximusic.fr
SUMMARY:On marie Margaux et Arthur ce week-end
DESCRIPTION:Quel plaisir que d’aller animer le mariage de la file d’un prestigieux collègue. Nouveau wedding festif en perspective
URL:https://maximusic.fr/agenda/on-marie-margaux-et-arthur-ce-week-end/
ATTACH;FMTTYPE=image/png:https://maximusic.fr/wp-content/uploads/2024/06/maraige-photo.png
END:VEVENT
BEGIN:VEVENT
DTSTART;TZID=Europe/Paris:20240918T173000
DTEND;TZID=Europe/Paris:20240919T010000
DTSTAMP:20260420T100118
CREATED:20240904T083426Z
LAST-MODIFIED:20240904T083521Z
UID:3343-1726680600-1726707600@maximusic.fr
SUMMARY:Séminaire EDF à Lourdes
DESCRIPTION:C’est dans le prestigieux Hotel Gallia et Londres de Lourdes que se déroulera un des premiers séminaires de la rentrée. EDF sera l’entreprise à ambiancer
URL:https://maximusic.fr/agenda/seminaire-edf-a-lourdes/
ATTACH;FMTTYPE=image/jpeg:https://maximusic.fr/wp-content/uploads/2024/09/hotel-gallia.jpeg
END:VEVENT
BEGIN:VEVENT
DTSTART;TZID=Europe/Paris:20240919T200000
DTEND;TZID=Europe/Paris:20240919T223000
DTSTAMP:20260420T100118
CREATED:20240904T084114Z
LAST-MODIFIED:20240904T103649Z
UID:3346-1726776000-1726785000@maximusic.fr
SUMMARY:La mensuelle des 3 Brasseurs
DESCRIPTION:Karaoké de rentrée aux 3 brasseurs Blaganc \nOn chante de 20h à 23h
URL:https://maximusic.fr/agenda/la-mensuelle-des-3-brasseurs/
ATTACH;FMTTYPE=image/jpeg:https://maximusic.fr/wp-content/uploads/2024/09/3-brasseurs.jpg
END:VEVENT
BEGIN:VEVENT
DTSTART;TZID=Europe/Paris:20240920T190000
DTEND;TZID=Europe/Paris:20240921T020000
DTSTAMP:20260420T100118
CREATED:20240904T084902Z
LAST-MODIFIED:20240913T133314Z
UID:3349-1726858800-1726884000@maximusic.fr
SUMMARY:After by M soirée du vendredi
DESCRIPTION:nouvel afterwork du vendredi au after by M \nc’est parti pour une nouvelle soirée festive\, ce soir soirées “Dégustations d’huitres”
URL:https://maximusic.fr/agenda/after-by-m-soiree-du-vendredi/
ATTACH;FMTTYPE=image/jpeg:https://maximusic.fr/wp-content/uploads/2024/09/after-by-m-photo.jpg
END:VEVENT
BEGIN:VEVENT
DTSTART;TZID=Europe/Paris:20240921T150000
DTEND;TZID=Europe/Paris:20240922T050000
DTSTAMP:20260420T100118
CREATED:20240904T085110Z
LAST-MODIFIED:20240904T085110Z
UID:3352-1726930800-1726981200@maximusic.fr
SUMMARY:Mariage au Chateau de Lombez
DESCRIPTION:Anais et Maxime seront nos mariés de ce week-end autour de leurs amis. Découverte également pour Maximusic du Chateau de Lombez
URL:https://maximusic.fr/agenda/mariage-au-chateau-de-lombez/
ATTACH;FMTTYPE=image/jpeg:https://maximusic.fr/wp-content/uploads/2024/07/mariage-1.jpg
END:VEVENT
BEGIN:VEVENT
DTSTART;TZID=Europe/Paris:20240922T150000
DTEND;TZID=Europe/Paris:20240922T220000
DTSTAMP:20260420T100118
CREATED:20240913T133607Z
LAST-MODIFIED:20240913T133607Z
UID:3375-1727017200-1727042400@maximusic.fr
SUMMARY:After Sunday by After M
DESCRIPTION:Rdv inédit en ce dimanche marquant le passage de l’été à l’Automne. Rdv pour un mix posé dans la guinguette tendance de Pinsaguel
URL:https://maximusic.fr/agenda/after-sunday-by-after-m/
END:VEVENT
BEGIN:VEVENT
DTSTART;TZID=Europe/Paris:20240926T210000
DTEND;TZID=Europe/Paris:20240927T010000
DTSTAMP:20260420T100118
CREATED:20240904T101930Z
LAST-MODIFIED:20240904T101930Z
UID:3354-1727384400-1727398800@maximusic.fr
SUMMARY:On chante au Café des Artistes
DESCRIPTION:On finit le mois comme on l’a commencé au café des artistes à savoir par un karaoké festif  ! On chante et on s’amuse dès 21h
URL:https://maximusic.fr/agenda/on-chante-au-cafe-des-artistes-8/
ATTACH;FMTTYPE=image/jpeg:https://maximusic.fr/wp-content/uploads/2024/07/cafe-des-artistes.jpg
END:VEVENT
BEGIN:VEVENT
DTSTART;TZID=Europe/Paris:20240927T170000
DTEND;TZID=Europe/Paris:20240928T020000
DTSTAMP:20260420T100118
CREATED:20240904T102922Z
LAST-MODIFIED:20240904T102922Z
UID:3356-1727456400-1727488800@maximusic.fr
SUMMARY:On s'enjaille à l'After By M
DESCRIPTION:le rdv est connu\, et est déja très populaire\, on s’anime et on s’amuse à l’After By M à Pinsaguel. Karaoké quiz set dj voire jeux de société ou pétanque les activités sont légions dans cette guinguette estivale qui va devenir annuelle
URL:https://maximusic.fr/agenda/on-senjaille-a-lafter-by-m/
ATTACH;FMTTYPE=image/jpeg:https://maximusic.fr/wp-content/uploads/2024/09/after-by-m-bis.jpg
END:VEVENT
BEGIN:VEVENT
DTSTART;TZID=Europe/Paris:20240928T170000
DTEND;TZID=Europe/Paris:20240929T050000
DTSTAMP:20260420T100118
CREATED:20240904T103528Z
LAST-MODIFIED:20240904T103528Z
UID:3359-1727542800-1727586000@maximusic.fr
SUMMARY:Dernier mariage de septembre
DESCRIPTION:Le dernier mariage du mois pour Maximusic se passera à La Métairie du Chateau et dans ce lieu merveilleux\, il devrait à nouveau se dérouler une belle fête.17
URL:https://maximusic.fr/agenda/dernier-mariage-de-septembre/
ATTACH;FMTTYPE=image/jpeg:https://maximusic.fr/wp-content/uploads/2018/07/img-4767_3_134778.jpg
END:VEVENT
END:VCALENDAR