BEGIN:VCALENDAR
VERSION:2.0
PRODID:-//MaxiMusic - ECPv6.15.20//NONSGML v1.0//EN
CALSCALE:GREGORIAN
METHOD:PUBLISH
X-WR-CALNAME:MaxiMusic
X-ORIGINAL-URL:https://maximusic.fr
X-WR-CALDESC:Évènements pour MaxiMusic
REFRESH-INTERVAL;VALUE=DURATION:PT1H
X-Robots-Tag:noindex
X-PUBLISHED-TTL:PT1H
BEGIN:VTIMEZONE
TZID:Europe/Paris
BEGIN:DAYLIGHT
TZOFFSETFROM:+0100
TZOFFSETTO:+0200
TZNAME:CEST
DTSTART:20230326T010000
END:DAYLIGHT
BEGIN:STANDARD
TZOFFSETFROM:+0200
TZOFFSETTO:+0100
TZNAME:CET
DTSTART:20231029T010000
END:STANDARD
BEGIN:DAYLIGHT
TZOFFSETFROM:+0100
TZOFFSETTO:+0200
TZNAME:CEST
DTSTART:20240331T010000
END:DAYLIGHT
BEGIN:STANDARD
TZOFFSETFROM:+0200
TZOFFSETTO:+0100
TZNAME:CET
DTSTART:20241027T010000
END:STANDARD
BEGIN:DAYLIGHT
TZOFFSETFROM:+0100
TZOFFSETTO:+0200
TZNAME:CEST
DTSTART:20250330T010000
END:DAYLIGHT
BEGIN:STANDARD
TZOFFSETFROM:+0200
TZOFFSETTO:+0100
TZNAME:CET
DTSTART:20251026T010000
END:STANDARD
END:VTIMEZONE
BEGIN:VEVENT
DTSTART;TZID=Europe/Paris:20240704T190000
DTEND;TZID=Europe/Paris:20240704T233000
DTSTAMP:20260420T102105
CREATED:20240617T103159Z
LAST-MODIFIED:20240617T103159Z
UID:3241-1720119600-1720135800@maximusic.fr
SUMMARY:Karaoké...live
DESCRIPTION:Maximsuic prend sa classqiue tenue d’animateur de karaoké du jeudi pour une agence d’évènements toulousaine. la petite nouveauté\, c’est que c’est un grouep qui jouera les chaansons pour les gens
URL:https://maximusic.fr/agenda/karaoke-live/
END:VEVENT
BEGIN:VEVENT
DTSTART;TZID=Europe/Paris:20240705T183000
DTEND;TZID=Europe/Paris:20240706T010000
DTSTAMP:20260420T102105
CREATED:20240617T103538Z
LAST-MODIFIED:20240617T103538Z
UID:3244-1720204200-1720227600@maximusic.fr
SUMMARY:L'empire du Malt en mode estival
DESCRIPTION:La terrasse d’été est ouverte à l’Empire Du Malt à Saint-Gaudens\, vous pourrez déguster toutes les bonnes bières de l’établissement au son d’un set dansant “Made in Maximusic”
URL:https://maximusic.fr/agenda/lempire-du-malt-en-mode-estival/
END:VEVENT
BEGIN:VEVENT
DTSTART;TZID=Europe/Paris:20240706T173000
DTEND;TZID=Europe/Paris:20240707T043000
DTSTAMP:20260420T102105
CREATED:20240617T162238Z
LAST-MODIFIED:20240617T162238Z
UID:3246-1720287000-1720326600@maximusic.fr
SUMMARY:Mariage luchonnais ce premier week-end de juillet
DESCRIPTION:C’est au tour d’Emmanuelle et Mathieu de convoler en juste noce ce samedi\, il devrai ty avoir pas mal de bruit et d’ambiance entre luchon et Saint-Mamet
URL:https://maximusic.fr/agenda/mariage-luchonnais-ce-premier-week-end-de-juillet/
ATTACH;FMTTYPE=image/png:https://maximusic.fr/wp-content/uploads/2024/06/maraige-photo.png
END:VEVENT
BEGIN:VEVENT
DTSTART;TZID=Europe/Paris:20240711T190000
DTEND;TZID=Europe/Paris:20240711T233000
DTSTAMP:20260420T102105
CREATED:20240717T131225Z
LAST-MODIFIED:20240717T131225Z
UID:3251-1720724400-1720740600@maximusic.fr
SUMMARY:Quiz au Golf de La Ramée
DESCRIPTION:
URL:https://maximusic.fr/agenda/quiz-au-golf-de-la-ramee/
END:VEVENT
BEGIN:VEVENT
DTSTART;TZID=Europe/Paris:20240712T210000
DTEND;TZID=Europe/Paris:20240712T233000
DTSTAMP:20260420T102105
CREATED:20240717T131331Z
LAST-MODIFIED:20240717T131331Z
UID:3253-1720818000-1720827000@maximusic.fr
SUMMARY:Soirée 80 Au Restaurant le Français à Saint Gaudens
DESCRIPTION:
URL:https://maximusic.fr/agenda/soiree-80-au-restaurant-le-francais-a-saint-gaudens/
END:VEVENT
BEGIN:VEVENT
DTSTART;TZID=Europe/Paris:20240713T183000
DTEND;TZID=Europe/Paris:20240714T020000
DTSTAMP:20260420T102105
CREATED:20240717T131554Z
LAST-MODIFIED:20240717T131554Z
UID:3255-1720895400-1720922400@maximusic.fr
SUMMARY:Mariage Anglo-islandais au domaine de Siradan
DESCRIPTION:
URL:https://maximusic.fr/agenda/mariage-anglo-islandais-au-domaine-de-siradan/
END:VEVENT
BEGIN:VEVENT
DTSTART;TZID=Europe/Paris:20240718T190000
DTEND;TZID=Europe/Paris:20240718T233000
DTSTAMP:20260420T102105
CREATED:20240717T132126Z
LAST-MODIFIED:20240717T140106Z
UID:3257-1721329200-1721345400@maximusic.fr
SUMMARY:Présentation de la saison de pro D2 de l'US Montauban
DESCRIPTION:Ce jeudi\, est un moment important de la saison de l’US Montauban\, la présentation de l’équipe Pro aux partenaires et soutiens du club. La présentation de cette soirée de prestige sera assurée par Maximusic sur les installations du prestigieux stade Sapiac.
URL:https://maximusic.fr/agenda/presentation-de-la-saison-de-pro-d2-de-lus-montauban/
ATTACH;FMTTYPE=image/png:https://maximusic.fr/wp-content/uploads/2024/07/us-montauban.png
END:VEVENT
BEGIN:VEVENT
DTSTART;TZID=Europe/Paris:20240719T193000
DTEND;TZID=Europe/Paris:20240719T220000
DTSTAMP:20260420T102105
CREATED:20240717T132649Z
LAST-MODIFIED:20240717T132649Z
UID:3260-1721417400-1721426400@maximusic.fr
SUMMARY:Quiz au Flunch Roques
DESCRIPTION:On va jouer ce vendredi au FLUNCH de Rocques. Rdv à 19h30
URL:https://maximusic.fr/agenda/quiz-au-flunch-roques/
ATTACH;FMTTYPE=image/png:https://maximusic.fr/wp-content/uploads/2024/07/flunch.png
END:VEVENT
BEGIN:VEVENT
DTSTART;TZID=Europe/Paris:20240720T170000
DTEND;TZID=Europe/Paris:20240721T050000
DTSTAMP:20260420T102105
CREATED:20240717T133025Z
LAST-MODIFIED:20240717T133025Z
UID:3263-1721494800-1721538000@maximusic.fr
SUMMARY:Mariage d'Alyson et Kevin
DESCRIPTION:Nouveau wedding ce week-end pour Maximusic. Il aura lieu à Carbonne  et c’est Alyson et Kevin qui seront les rois de la fête
URL:https://maximusic.fr/agenda/mariage-dalyson-et-kevin/
ATTACH;FMTTYPE=image/jpeg:https://maximusic.fr/wp-content/uploads/2024/07/mariage-1.jpg
END:VEVENT
BEGIN:VEVENT
DTSTART;TZID=Europe/Paris:20240725T210000
DTEND;TZID=Europe/Paris:20240725T210000
DTSTAMP:20260420T102105
CREATED:20240717T133938Z
LAST-MODIFIED:20240717T133938Z
UID:3266-1721941200-1721941200@maximusic.fr
SUMMARY:Café des Artistes en mode Karaoké
DESCRIPTION:On se retrouve comme chaque jeudi de l’année de 21h à 1h du matin pour le traditionnel karaoké du jeudi du Café des Artistes
URL:https://maximusic.fr/agenda/cafe-des-artistes-en-mode-karaoke/
ATTACH;FMTTYPE=image/jpeg:https://maximusic.fr/wp-content/uploads/2021/08/3A6AD00E-2E27-4317-A00D-8BB63EA3E8B9.jpeg
END:VEVENT
BEGIN:VEVENT
DTSTART;TZID=Europe/Paris:20240726T230000
DTEND;TZID=Europe/Paris:20240727T050000
DTSTAMP:20260420T102105
CREATED:20240717T134412Z
LAST-MODIFIED:20240717T134412Z
UID:3268-1722034800-1722056400@maximusic.fr
SUMMARY:Privilège Night
DESCRIPTION:C’est une grande joie que disje c’est un privilège de revenir mixer au…Privilège ce 26 juillet. Un set dansant et festif de 23h à 5h du mat
URL:https://maximusic.fr/agenda/privilege-night/
ATTACH;FMTTYPE=image/jpeg:https://maximusic.fr/wp-content/uploads/2018/07/11811402_10207321137177156_8979449264338505994_n.jpg
END:VEVENT
BEGIN:VEVENT
DTSTART;TZID=Europe/Paris:20240727T210000
DTEND;TZID=Europe/Paris:20240728T040000
DTSTAMP:20260420T102105
CREATED:20240717T134823Z
LAST-MODIFIED:20240717T134823Z
UID:3270-1722114000-1722139200@maximusic.fr
SUMMARY:Première fête locale de Nénigan
DESCRIPTION:Pour la première fois de son histoire\, Maximusic pose ses platines au village de Nénigan pour la fête locale. Et duran le repas\, il y posera même ses buzzers pour un quiz festif. on s’amuse lors du dernier samedi de juillet
URL:https://maximusic.fr/agenda/premiere-fete-locale-de-nenigan/
ATTACH;FMTTYPE=image/jpeg:https://maximusic.fr/wp-content/uploads/2018/07/11059699_10207416676965591_6919817385309331502_n.jpg
END:VEVENT
END:VCALENDAR