BEGIN:VCALENDAR
VERSION:2.0
PRODID:-//MaxiMusic - ECPv6.15.20//NONSGML v1.0//EN
CALSCALE:GREGORIAN
METHOD:PUBLISH
X-WR-CALNAME:MaxiMusic
X-ORIGINAL-URL:https://maximusic.fr
X-WR-CALDESC:Évènements pour MaxiMusic
REFRESH-INTERVAL;VALUE=DURATION:PT1H
X-Robots-Tag:noindex
X-PUBLISHED-TTL:PT1H
BEGIN:VTIMEZONE
TZID:Europe/Paris
BEGIN:DAYLIGHT
TZOFFSETFROM:+0100
TZOFFSETTO:+0200
TZNAME:CEST
DTSTART:20230326T010000
END:DAYLIGHT
BEGIN:STANDARD
TZOFFSETFROM:+0200
TZOFFSETTO:+0100
TZNAME:CET
DTSTART:20231029T010000
END:STANDARD
BEGIN:DAYLIGHT
TZOFFSETFROM:+0100
TZOFFSETTO:+0200
TZNAME:CEST
DTSTART:20240331T010000
END:DAYLIGHT
BEGIN:STANDARD
TZOFFSETFROM:+0200
TZOFFSETTO:+0100
TZNAME:CET
DTSTART:20241027T010000
END:STANDARD
BEGIN:DAYLIGHT
TZOFFSETFROM:+0100
TZOFFSETTO:+0200
TZNAME:CEST
DTSTART:20250330T010000
END:DAYLIGHT
BEGIN:STANDARD
TZOFFSETFROM:+0200
TZOFFSETTO:+0100
TZNAME:CET
DTSTART:20251026T010000
END:STANDARD
END:VTIMEZONE
BEGIN:VEVENT
DTSTART;TZID=Europe/Paris:20240502T183000
DTEND;TZID=Europe/Paris:20240502T233000
DTSTAMP:20260422T174748
CREATED:20240418T084633Z
LAST-MODIFIED:20240418T084633Z
UID:3152-1714674600-1714692600@maximusic.fr
SUMMARY:Chic et Choc au Bascala
DESCRIPTION:C’est la thématique de ce nouveal Afterwork que j’aurai plaisir à vous présenter mardi 2 mai dans la belle salle du Bascala \nVenez découvrir des quiz exclusifs et danset sur un set plein de surprises
URL:https://maximusic.fr/agenda/chic-et-choc-au-bascala/
ATTACH;FMTTYPE=image/jpeg:https://maximusic.fr/wp-content/uploads/2024/02/le-bascala.jpg
END:VEVENT
BEGIN:VEVENT
DTSTART;TZID=Europe/Paris:20240504T050000
DTEND;TZID=Europe/Paris:20240504T190000
DTSTAMP:20260422T174748
CREATED:20240418T085318Z
LAST-MODIFIED:20240418T085318Z
UID:3154-1714798800-1714849200@maximusic.fr
SUMMARY:Nouvelle édition du Trail du Mourtis
DESCRIPTION:Le rendez vous annuel des traillistes est posé. C’est ce samedi 4 mai 2024 et MAximusic sera la cette année encore et durant l’intégralité de toutes les épreuves \net même le Warm Up. Rendez vous en haut de la station
URL:https://maximusic.fr/agenda/nouvelle-edition-du-trail-du-mourtis/
END:VEVENT
BEGIN:VEVENT
DTSTART;TZID=Europe/Paris:20240509T210000
DTEND;TZID=Europe/Paris:20240510T010000
DTSTAMP:20260422T174748
CREATED:20240504T061856Z
LAST-MODIFIED:20240504T062320Z
UID:3161-1715288400-1715302800@maximusic.fr
SUMMARY:On chante au café des Artistes
DESCRIPTION:On va s’en donner a coeur joie durant pont du 8 mai au Café des Artistes. On va chanter de 21h à 1h du mat
URL:https://maximusic.fr/agenda/on-chante-au-cafe-des-artistes-6/
ATTACH;FMTTYPE=image/jpeg:https://maximusic.fr/wp-content/uploads/2024/05/cafe-des-artistes-toulouse-france-mjh3gt.jpg
END:VEVENT
BEGIN:VEVENT
DTSTART;TZID=Europe/Paris:20240510T193000
DTEND;TZID=Europe/Paris:20240510T213000
DTSTAMP:20260422T174748
CREATED:20240504T063002Z
LAST-MODIFIED:20240504T063002Z
UID:3164-1715369400-1715376600@maximusic.fr
SUMMARY:Tour de chant au Flunch Blagnac
DESCRIPTION:Deux prestas ce vendredi pour Maximusic \nOn commence de 19h30 à 21h30 par le karaoké de Fl
URL:https://maximusic.fr/agenda/tour-de-chant-au-flunch-blagnac/
ATTACH;FMTTYPE=image/jpeg:https://maximusic.fr/wp-content/uploads/2024/01/karaoke.jpg
END:VEVENT
BEGIN:VEVENT
DTSTART;TZID=Europe/Paris:20240510T233000
DTEND;TZID=Europe/Paris:20240511T053000
DTSTAMP:20260422T174748
CREATED:20240504T064342Z
LAST-MODIFIED:20240504T064400Z
UID:3167-1715383800-1715405400@maximusic.fr
SUMMARY:Tour de danse aux Guinguettes à Montauban
DESCRIPTION:Direction Montauban à la plus grande discothèque de la ville  pour un set ensoleillé et génaraliste
URL:https://maximusic.fr/agenda/tour-de-danse-aux-guinguettes-a-montauban/
ATTACH;FMTTYPE=image/jpeg:https://maximusic.fr/wp-content/uploads/2018/07/carousel_clubbing-1.jpg
END:VEVENT
BEGIN:VEVENT
DTSTART;TZID=Europe/Paris:20240511T173000
DTEND;TZID=Europe/Paris:20240512T050000
DTSTAMP:20260422T174748
CREATED:20240504T064900Z
LAST-MODIFIED:20240504T064944Z
UID:3169-1715448600-1715490000@maximusic.fr
SUMMARY:David & Mélissa se marient
DESCRIPTION:3ième mariage de l’année pour Maximusic et direction le Tarn pour célébrer nos mariés du jour qui avec leur convives vont festoyer comme il se doit
URL:https://maximusic.fr/agenda/david-melissa-se-marient/
ATTACH;FMTTYPE=image/jpeg:https://maximusic.fr/wp-content/uploads/2024/01/maraige.jpeg
END:VEVENT
BEGIN:VEVENT
DTSTART;TZID=Europe/Paris:20240514T210000
DTEND;TZID=Europe/Paris:20240515T000000
DTSTAMP:20260422T174748
CREATED:20240522T060649Z
LAST-MODIFIED:20240522T061333Z
UID:3172-1715720400-1715731200@maximusic.fr
SUMMARY:Karaoké à Montauban
DESCRIPTION:Découverte du nouvel hotel 5 étoiles de Montauban le Dali avec un karaoké festif pour Airbus et l’agence “Les Petits COncerts”
URL:https://maximusic.fr/agenda/karaoke-a-montauban/
END:VEVENT
BEGIN:VEVENT
DTSTART;TZID=Europe/Paris:20240516T200000
DTEND;TZID=Europe/Paris:20240516T230000
DTSTAMP:20260422T174748
CREATED:20240522T061710Z
LAST-MODIFIED:20240522T061710Z
UID:3174-1715889600-1715900400@maximusic.fr
SUMMARY:La mensuelle des 3B
DESCRIPTION:On est sur un des rdvs les plus établis du calendrier Maximusic. La mensulles des 3 brasseurs Blagnac \nOn chante et on s’ambiance depuis plusieurs saisons avec joie envie et bonne jumeur
URL:https://maximusic.fr/agenda/la-mensuelle-des-3b-6/
END:VEVENT
BEGIN:VEVENT
DTSTART;TZID=Europe/Paris:20240518T170000
DTEND;TZID=Europe/Paris:20240519T050000
DTSTAMP:20260422T174748
CREATED:20240522T062707Z
LAST-MODIFIED:20240522T062707Z
UID:3176-1716051600-1716094800@maximusic.fr
SUMMARY:Mariage Laurane & Arnaud
DESCRIPTION:Retour à la Métairie du Chateau pour ce 4ième mariage animé de la saison. Laurane et Arnaud seront les héros de leurs amis et famille dans ce cadre merveilleux
URL:https://maximusic.fr/agenda/mariage-laurane-arnaud/
END:VEVENT
BEGIN:VEVENT
DTSTART;TZID=Europe/Paris:20240522T080000
DTEND;TZID=Europe/Paris:20240522T170000
DTSTAMP:20260422T174748
CREATED:20240522T063359Z
LAST-MODIFIED:20240522T063359Z
UID:3178-1716364800-1716397200@maximusic.fr
SUMMARY:On chante aux Chimères ce mercredi
DESCRIPTION:Nouveau RDV au restaurant le plus tendence du quartier St Cyprien à Toulouse. Rdv au 2ième étage à partir de 20h pour “Pousser la chansonnette”
URL:https://maximusic.fr/agenda/on-chante-aux-chimeres-ce-mercredi/
END:VEVENT
BEGIN:VEVENT
DTSTART;TZID=Europe/Paris:20240523T210000
DTEND;TZID=Europe/Paris:20240524T010000
DTSTAMP:20260422T174748
CREATED:20240522T063851Z
LAST-MODIFIED:20240522T065913Z
UID:3181-1716498000-1716512400@maximusic.fr
SUMMARY:On chante au Artistes
DESCRIPTION:Deuxième karaoké de la semaine\, celui du  jeudi au café des artistes. Les habitués de plus en plus nombreux le savent\, On y chante de 21h à 1h du matin
URL:https://maximusic.fr/agenda/on-chante-au-artistes/
ATTACH;FMTTYPE=image/jpeg:https://maximusic.fr/wp-content/uploads/2024/05/cafe-des-artistes-21-mai.jpg
END:VEVENT
BEGIN:VEVENT
DTSTART;TZID=Europe/Paris:20240524T200000
DTEND;TZID=Europe/Paris:20240524T233000
DTSTAMP:20260422T174748
CREATED:20240522T064202Z
LAST-MODIFIED:20240522T064202Z
UID:3184-1716580800-1716593400@maximusic.fr
SUMMARY:O PAS SAGE fait son Quiz
DESCRIPTION:Ce mois ci\, on se retrouve un vendredi soir pour partager du fun du jeu et de l’ambiance O PAS SAGE dans la galerie LECLERC de Saint Orens
URL:https://maximusic.fr/agenda/o-pas-sage-fait-son-quiz/
ATTACH;FMTTYPE=image/jpeg:https://maximusic.fr/wp-content/uploads/2024/01/quiz.jpg
END:VEVENT
BEGIN:VEVENT
DTSTART;TZID=Europe/Paris:20240525T173000
DTEND;TZID=Europe/Paris:20240526T173000
DTSTAMP:20260422T174748
CREATED:20240522T064805Z
LAST-MODIFIED:20240522T064805Z
UID:3186-1716658200-1716744600@maximusic.fr
SUMMARY:Wedding TIme au Cuing
DESCRIPTION:Charlène et Laurent ont réuni plus de 120 personnes autour d’eux pour leur Jour J. Ambiance garantie au Cuing  ce samedi
URL:https://maximusic.fr/agenda/wedding-time-au-cuing/
ATTACH;FMTTYPE=image/jpeg:https://maximusic.fr/wp-content/uploads/2024/05/decoration-mariage-haut-de-gamme-12.jpg
END:VEVENT
BEGIN:VEVENT
DTSTART;TZID=Europe/Paris:20240530T170000
DTEND;TZID=Europe/Paris:20240530T230000
DTSTAMP:20260422T174748
CREATED:20240522T065439Z
LAST-MODIFIED:20240522T065439Z
UID:3189-1717088400-1717110000@maximusic.fr
SUMMARY:La fête des voisins de BMW
DESCRIPTION:C’est la fête des voisins ce jeudi\, mais pas une fête ordinaire\, une fête avec toutes les entreprises proches de la concesssion tarbaise\, pour l’animation de cette fête\, maximusic
URL:https://maximusic.fr/agenda/la-fete-des-voisins-de-bmw/
END:VEVENT
END:VCALENDAR